BEGIN:VCALENDAR
VERSION:2.0
PRODID:spatie/icalendar-generator
BEGIN:VTIMEZONE
TZID:UTC
BEGIN:STANDARD
DTSTART:20250724T005606
TZOFFSETFROM:+0000
TZOFFSETTO:+0000
END:STANDARD
END:VTIMEZONE
BEGIN:VEVENT
UID:69e579a626ba4
DTSTAMP:20260420T005606Z
SUMMARY:Ägypten - Land der Unsterblichkeit
DTSTART:20270223T090000Z
DTEND:20270223T090000Z
END:VEVENT
END:VCALENDAR