BEGIN:VCALENDAR
VERSION:2.0
PRODID:spatie/icalendar-generator
BEGIN:VTIMEZONE
TZID:UTC
BEGIN:STANDARD
DTSTART:20250724T005902
TZOFFSETFROM:+0000
TZOFFSETTO:+0000
END:STANDARD
END:VTIMEZONE
BEGIN:VEVENT
UID:69e57a565dc54
DTSTAMP:20260420T005902Z
SUMMARY:Ägypten - Land der Unsterblichkeit
DTSTART:20270221T090000Z
DTEND:20270221T090000Z
END:VEVENT
END:VCALENDAR