BEGIN:VCALENDAR
VERSION:2.0
PRODID:spatie/icalendar-generator
BEGIN:VTIMEZONE
TZID:UTC
BEGIN:STANDARD
DTSTART:20250724T042441
TZOFFSETFROM:+0000
TZOFFSETTO:+0000
END:STANDARD
END:VTIMEZONE
BEGIN:VEVENT
UID:69e5aa89c7d37
DTSTAMP:20260420T042441Z
SUMMARY:Ägypten - Land der Unsterblichkeit
DTSTART:20270219T090000Z
DTEND:20270219T090000Z
END:VEVENT
END:VCALENDAR