BEGIN:VCALENDAR
VERSION:2.0
PRODID:spatie/icalendar-generator
BEGIN:VTIMEZONE
TZID:UTC
BEGIN:STANDARD
DTSTART:20250724T055912
TZOFFSETFROM:+0000
TZOFFSETTO:+0000
END:STANDARD
END:VTIMEZONE
BEGIN:VEVENT
UID:69e5c0b0bb42d
DTSTAMP:20260420T055912Z
SUMMARY:Ägypten - Land der Unsterblichkeit
DTSTART:20270216T090000Z
DTEND:20270216T090000Z
END:VEVENT
END:VCALENDAR