BEGIN:VCALENDAR
VERSION:2.0
PRODID:spatie/icalendar-generator
BEGIN:VTIMEZONE
TZID:UTC
BEGIN:STANDARD
DTSTART:20250724T131125
TZOFFSETFROM:+0000
TZOFFSETTO:+0000
END:STANDARD
END:VTIMEZONE
BEGIN:VEVENT
UID:69e625fd9edba
DTSTAMP:20260420T131125Z
SUMMARY:Ägypten - Land der Unsterblichkeit
DTSTART:20270202T090000Z
DTEND:20270202T090000Z
END:VEVENT
END:VCALENDAR