BEGIN:VCALENDAR
VERSION:2.0
PRODID:spatie/icalendar-generator
BEGIN:VTIMEZONE
TZID:UTC
BEGIN:STANDARD
DTSTART:20250724T145706
TZOFFSETFROM:+0000
TZOFFSETTO:+0000
END:STANDARD
END:VTIMEZONE
BEGIN:VEVENT
UID:69e63ec2ac7d4
DTSTAMP:20260420T145706Z
SUMMARY:Ägypten - Land der Unsterblichkeit
DTSTART:20270128T090000Z
DTEND:20270128T090000Z
END:VEVENT
END:VCALENDAR