BEGIN:VCALENDAR
VERSION:2.0
PRODID:spatie/icalendar-generator
BEGIN:VTIMEZONE
TZID:UTC
BEGIN:STANDARD
DTSTART:20250723T133420
TZOFFSETFROM:+0000
TZOFFSETTO:+0000
END:STANDARD
END:VTIMEZONE
BEGIN:VEVENT
UID:69e4d9dc9c032
DTSTAMP:20260419T133420Z
SUMMARY:Ägypten - Land der Unsterblichkeit
DTSTART:20270109T090000Z
DTEND:20270109T090000Z
END:VEVENT
END:VCALENDAR