BEGIN:VCALENDAR
VERSION:2.0
PRODID:spatie/icalendar-generator
BEGIN:VTIMEZONE
TZID:UTC
BEGIN:STANDARD
DTSTART:20250723T150414
TZOFFSETFROM:+0000
TZOFFSETTO:+0000
END:STANDARD
END:VTIMEZONE
BEGIN:VEVENT
UID:69e4eeeebcca6
DTSTAMP:20260419T150414Z
SUMMARY:Ägypten - Land der Unsterblichkeit
DTSTART:20270108T090000Z
DTEND:20270108T090000Z
END:VEVENT
END:VCALENDAR