BEGIN:VCALENDAR
VERSION:2.0
PRODID:spatie/icalendar-generator
BEGIN:VTIMEZONE
TZID:UTC
BEGIN:STANDARD
DTSTART:20250723T150415
TZOFFSETFROM:+0000
TZOFFSETTO:+0000
END:STANDARD
END:VTIMEZONE
BEGIN:VEVENT
UID:69e4eeefc0b0f
DTSTAMP:20260419T150415Z
SUMMARY:Ägypten - Land der Unsterblichkeit
DTSTART:20270107T090000Z
DTEND:20270107T090000Z
END:VEVENT
END:VCALENDAR