BEGIN:VCALENDAR
VERSION:2.0
PRODID:spatie/icalendar-generator
BEGIN:VTIMEZONE
TZID:UTC
BEGIN:STANDARD
DTSTART:20250723T125828
TZOFFSETFROM:+0000
TZOFFSETTO:+0000
END:STANDARD
END:VTIMEZONE
BEGIN:VEVENT
UID:69e4d17493df7
DTSTAMP:20260419T125828Z
SUMMARY:Vorlesezeit in Käfertal
DTSTART:20260610T144500Z
DTEND:20260610T151500Z
END:VEVENT
END:VCALENDAR