BEGIN:VCALENDAR
VERSION:2.0
PRODID:spatie/icalendar-generator
BEGIN:VTIMEZONE
TZID:UTC
BEGIN:STANDARD
DTSTART:20250725T142134
TZOFFSETFROM:+0000
TZOFFSETTO:+0000
END:STANDARD
END:VTIMEZONE
BEGIN:VEVENT
UID:69e787ee50fa1
DTSTAMP:20260421T142134Z
SUMMARY:Pottery
DTSTART:20260515T163000Z
DTEND:20260515T190000Z
END:VEVENT
END:VCALENDAR