BEGIN:VCALENDAR
VERSION:2.0
PRODID:spatie/icalendar-generator
BEGIN:VTIMEZONE
TZID:UTC
BEGIN:STANDARD
DTSTART:20250725T101015
TZOFFSETFROM:+0000
TZOFFSETTO:+0000
END:STANDARD
END:VTIMEZONE
BEGIN:VEVENT
UID:69e74d07b8266
DTSTAMP:20260421T101015Z
SUMMARY:Lesen und Spielen mit Silvia auf der Schönau
DTSTART:20260709T140000Z
DTEND:20260709T140000Z
END:VEVENT
END:VCALENDAR