BEGIN:VCALENDAR
VERSION:2.0
PRODID:spatie/icalendar-generator
BEGIN:VTIMEZONE
TZID:UTC
BEGIN:STANDARD
DTSTART:20250724T121516
TZOFFSETFROM:+0000
TZOFFSETTO:+0000
END:STANDARD
END:VTIMEZONE
BEGIN:VEVENT
UID:69e618d4b6989
DTSTAMP:20260420T121516Z
SUMMARY:Lesen und Spielen mit Silvia auf der Schönau
DTSTART:20260716T140000Z
DTEND:20260716T140000Z
END:VEVENT
END:VCALENDAR