BEGIN:VCALENDAR
VERSION:2.0
PRODID:spatie/icalendar-generator
BEGIN:VTIMEZONE
TZID:UTC
BEGIN:STANDARD
DTSTART:20250724T154048
TZOFFSETFROM:+0000
TZOFFSETTO:+0000
END:STANDARD
END:VTIMEZONE
BEGIN:VEVENT
UID:69e64900053d4
DTSTAMP:20260420T154048Z
SUMMARY:Lesen und Spielen mit Silvia auf der Schönau
DTSTART:20260624T140000Z
DTEND:20260624T140000Z
END:VEVENT
END:VCALENDAR