BEGIN:VCALENDAR
VERSION:2.0
PRODID:spatie/icalendar-generator
BEGIN:VTIMEZONE
TZID:UTC
BEGIN:STANDARD
DTSTART:20250724T085731
TZOFFSETFROM:+0000
TZOFFSETTO:+0000
END:STANDARD
END:VTIMEZONE
BEGIN:VEVENT
UID:69e5ea7bd2cfb
DTSTAMP:20260420T085731Z
SUMMARY:AKA AKA
DTSTART:20260822T210000Z
DTEND:20260822T210000Z
END:VEVENT
END:VCALENDAR