BEGIN:VCALENDAR
VERSION:2.0
PRODID:spatie/icalendar-generator
BEGIN:VTIMEZONE
TZID:UTC
BEGIN:STANDARD
DTSTART:20250724T085726
TZOFFSETFROM:+0000
TZOFFSETTO:+0000
END:STANDARD
END:VTIMEZONE
BEGIN:VEVENT
UID:69e5ea76a6c62
DTSTAMP:20260420T085726Z
SUMMARY:TRIPTYKH\, Ben Techy
DTSTART:20260612T210000Z
DTEND:20260612T210000Z
END:VEVENT
END:VCALENDAR