BEGIN:VCALENDAR
VERSION:2.0
PRODID:spatie/icalendar-generator
BEGIN:VTIMEZONE
TZID:UTC
BEGIN:STANDARD
DTSTART:20250726T220845
TZOFFSETFROM:+0000
TZOFFSETTO:+0000
END:STANDARD
END:VTIMEZONE
BEGIN:VEVENT
UID:69e946ed1d1a2
DTSTAMP:20260422T220845Z
SUMMARY:Franz Schömbs
DTSTART:20260611T090000Z
DTEND:20260611T090000Z
END:VEVENT
END:VCALENDAR