BEGIN:VCALENDAR
VERSION:2.0
PRODID:spatie/icalendar-generator
BEGIN:VTIMEZONE
TZID:UTC
BEGIN:STANDARD
DTSTART:20250726T204457
TZOFFSETFROM:+0000
TZOFFSETTO:+0000
END:STANDARD
END:VTIMEZONE
BEGIN:VEVENT
UID:69e933490309c
DTSTAMP:20260422T204457Z
SUMMARY:Franz Schömbs
DTSTART:20260610T090000Z
DTEND:20260610T090000Z
END:VEVENT
END:VCALENDAR