BEGIN:VCALENDAR
VERSION:2.0
PRODID:spatie/icalendar-generator
BEGIN:VTIMEZONE
TZID:UTC
BEGIN:STANDARD
DTSTART:20250726T171429
TZOFFSETFROM:+0000
TZOFFSETTO:+0000
END:STANDARD
END:VTIMEZONE
BEGIN:VEVENT
UID:69e901f5cc914
DTSTAMP:20260422T171429Z
SUMMARY:Franz Schömbs
DTSTART:20260607T090000Z
DTEND:20260607T090000Z
END:VEVENT
END:VCALENDAR