BEGIN:VCALENDAR
VERSION:2.0
PRODID:spatie/icalendar-generator
BEGIN:VTIMEZONE
TZID:UTC
BEGIN:STANDARD
DTSTART:20250726T155352
TZOFFSETFROM:+0000
TZOFFSETTO:+0000
END:STANDARD
END:VTIMEZONE
BEGIN:VEVENT
UID:69e8ef108e663
DTSTAMP:20260422T155352Z
SUMMARY:Franz Schömbs
DTSTART:20260605T090000Z
DTEND:20260605T090000Z
END:VEVENT
END:VCALENDAR