BEGIN:VCALENDAR
VERSION:2.0
PRODID:spatie/icalendar-generator
BEGIN:VTIMEZONE
TZID:UTC
BEGIN:STANDARD
DTSTART:20250726T141359
TZOFFSETFROM:+0000
TZOFFSETTO:+0000
END:STANDARD
END:VTIMEZONE
BEGIN:VEVENT
UID:69e8d7a76d9d8
DTSTAMP:20260422T141359Z
SUMMARY:Franz Schömbs
DTSTART:20260603T090000Z
DTEND:20260603T090000Z
END:VEVENT
END:VCALENDAR