BEGIN:VCALENDAR
VERSION:2.0
PRODID:spatie/icalendar-generator
BEGIN:VTIMEZONE
TZID:UTC
BEGIN:STANDARD
DTSTART:20250726T110932
TZOFFSETFROM:+0000
TZOFFSETTO:+0000
END:STANDARD
END:VTIMEZONE
BEGIN:VEVENT
UID:69e8ac6c7e1e3
DTSTAMP:20260422T110932Z
SUMMARY:Franz Schömbs
DTSTART:20260531T090000Z
DTEND:20260531T090000Z
END:VEVENT
END:VCALENDAR