BEGIN:VCALENDAR
VERSION:2.0
PRODID:spatie/icalendar-generator
BEGIN:VTIMEZONE
TZID:UTC
BEGIN:STANDARD
DTSTART:20250726T010537
TZOFFSETFROM:+0000
TZOFFSETTO:+0000
END:STANDARD
END:VTIMEZONE
BEGIN:VEVENT
UID:69e81ee184cd4
DTSTAMP:20260422T010537Z
SUMMARY:Franz Schömbs
DTSTART:20260522T090000Z
DTEND:20260522T090000Z
END:VEVENT
END:VCALENDAR