BEGIN:VCALENDAR
VERSION:2.0
PRODID:spatie/icalendar-generator
BEGIN:VTIMEZONE
TZID:UTC
BEGIN:STANDARD
DTSTART:20250725T173957
TZOFFSETFROM:+0000
TZOFFSETTO:+0000
END:STANDARD
END:VTIMEZONE
BEGIN:VEVENT
UID:69e7b66dc31d5
DTSTAMP:20260421T173957Z
SUMMARY:Franz Schömbs
DTSTART:20260517T090000Z
DTEND:20260517T090000Z
END:VEVENT
END:VCALENDAR