BEGIN:VCALENDAR
VERSION:2.0
PRODID:spatie/icalendar-generator
BEGIN:VTIMEZONE
TZID:UTC
BEGIN:STANDARD
DTSTART:20250725T142133
TZOFFSETFROM:+0000
TZOFFSETTO:+0000
END:STANDARD
END:VTIMEZONE
BEGIN:VEVENT
UID:69e787ed8984b
DTSTAMP:20260421T142133Z
SUMMARY:Franz Schömbs
DTSTART:20260515T090000Z
DTEND:20260515T090000Z
END:VEVENT
END:VCALENDAR