BEGIN:VCALENDAR
VERSION:2.0
PRODID:spatie/icalendar-generator
BEGIN:VTIMEZONE
TZID:UTC
BEGIN:STANDARD
DTSTART:20250724T211949
TZOFFSETFROM:+0000
TZOFFSETTO:+0000
END:STANDARD
END:VTIMEZONE
BEGIN:VEVENT
UID:69e69875e1b6f
DTSTAMP:20260420T211949Z
SUMMARY:Franz Schömbs
DTSTART:20260508T090000Z
DTEND:20260508T090000Z
END:VEVENT
END:VCALENDAR