BEGIN:VCALENDAR
VERSION:2.0
PRODID:spatie/icalendar-generator
BEGIN:VTIMEZONE
TZID:UTC
BEGIN:STANDARD
DTSTART:20250730T015205
TZOFFSETFROM:+0000
TZOFFSETTO:+0000
END:STANDARD
END:VTIMEZONE
BEGIN:VEVENT
UID:69ed6fc5408fc
DTSTAMP:20260426T015205Z
SUMMARY:Kreativzeit im N³-Bibliothekslabor
DTSTART:20260715T140000Z
DTEND:20260715T160000Z
END:VEVENT
END:VCALENDAR