BEGIN:VCALENDAR
VERSION:2.0
PRODID:spatie/icalendar-generator
BEGIN:VTIMEZONE
TZID:UTC
BEGIN:STANDARD
DTSTART:20250729T102242
TZOFFSETFROM:+0000
TZOFFSETTO:+0000
END:STANDARD
END:VTIMEZONE
BEGIN:VEVENT
UID:69ec95f2e450f
DTSTAMP:20260425T102242Z
SUMMARY:Bücherspaß: Erste Worte Deutsch
DTSTART:20260508T130000Z
DTEND:20260508T130000Z
END:VEVENT
END:VCALENDAR