BEGIN:VCALENDAR
VERSION:2.0
PRODID:spatie/icalendar-generator
BEGIN:VTIMEZONE
TZID:UTC
BEGIN:STANDARD
DTSTART:20250725T095655
TZOFFSETFROM:+0000
TZOFFSETTO:+0000
END:STANDARD
END:VTIMEZONE
BEGIN:VEVENT
UID:69e749e7537b9
DTSTAMP:20260421T095655Z
SUMMARY:English Storytime
DTSTART:20260528T140000Z
DTEND:20260528T140000Z
END:VEVENT
END:VCALENDAR