BEGIN:VCALENDAR
VERSION:2.0
PRODID:spatie/icalendar-generator
BEGIN:VTIMEZONE
TZID:UTC
BEGIN:STANDARD
DTSTART:20250729T102242
TZOFFSETFROM:+0000
TZOFFSETTO:+0000
END:STANDARD
END:VTIMEZONE
BEGIN:VEVENT
UID:69ec95f2ec2d7
DTSTAMP:20260425T102242Z
SUMMARY:Pfingstferien: Illustrations-Werkstatt
DTSTART:20260527T070000Z
DTEND:20260527T100000Z
END:VEVENT
END:VCALENDAR