BEGIN:VCALENDAR
VERSION:2.0
PRODID:spatie/icalendar-generator
BEGIN:VTIMEZONE
TZID:UTC
BEGIN:STANDARD
DTSTART:20250729T120133
TZOFFSETFROM:+0000
TZOFFSETTO:+0000
END:STANDARD
END:VTIMEZONE
BEGIN:VEVENT
UID:69ecad1d8cee0
DTSTAMP:20260425T120133Z
SUMMARY:Mannheim liest vor
DTSTART:20260502T090000Z
DTEND:20260502T090000Z
END:VEVENT
END:VCALENDAR