BEGIN:VCALENDAR
VERSION:2.0
PRODID:spatie/icalendar-generator
BEGIN:VTIMEZONE
TZID:UTC
BEGIN:STANDARD
DTSTART:20250729T120110
TZOFFSETFROM:+0000
TZOFFSETTO:+0000
END:STANDARD
END:VTIMEZONE
BEGIN:VEVENT
UID:69ecad06c7e38
DTSTAMP:20260425T120110Z
SUMMARY:Stefan Waghubinger - Dass ich alt bin\, ist mir neu
DTSTART:20270122T190000Z
DTEND:20270122T190000Z
END:VEVENT
END:VCALENDAR