BEGIN:VCALENDAR
VERSION:2.0
PRODID:spatie/icalendar-generator
BEGIN:VTIMEZONE
TZID:UTC
BEGIN:STANDARD
DTSTART:20250729T120122
TZOFFSETFROM:+0000
TZOFFSETTO:+0000
END:STANDARD
END:VTIMEZONE
BEGIN:VEVENT
UID:69ecad12bbc06
DTSTAMP:20260425T120122Z
SUMMARY:Helene Bockhorst
DTSTART:20270520T180000Z
DTEND:20270520T180000Z
END:VEVENT
END:VCALENDAR