BEGIN:VCALENDAR
VERSION:2.0
PRODID:spatie/icalendar-generator
BEGIN:VTIMEZONE
TZID:UTC
BEGIN:STANDARD
DTSTART:20250729T120111
TZOFFSETFROM:+0000
TZOFFSETTO:+0000
END:STANDARD
END:VTIMEZONE
BEGIN:VEVENT
UID:69ecad074b135
DTSTAMP:20260425T120111Z
SUMMARY:Deutsch-Russische Vorlesestunde
DTSTART:20260523T090000Z
DTEND:20260523T090000Z
END:VEVENT
END:VCALENDAR