BEGIN:VCALENDAR
VERSION:2.0
PRODID:spatie/icalendar-generator
BEGIN:VTIMEZONE
TZID:UTC
BEGIN:STANDARD
DTSTART:20250729T120132
TZOFFSETFROM:+0000
TZOFFSETTO:+0000
END:STANDARD
END:VTIMEZONE
BEGIN:VEVENT
UID:69ecad1cf3727
DTSTAMP:20260425T120132Z
SUMMARY:IG Jazz Session: Mateus Montino Quarteto
DTSTART:20260427T190000Z
DTEND:20260427T190000Z
END:VEVENT
END:VCALENDAR