BEGIN:VCALENDAR
VERSION:2.0
PRODID:spatie/icalendar-generator
BEGIN:VTIMEZONE
TZID:UTC
BEGIN:STANDARD
DTSTART:20250729T134855
TZOFFSETFROM:+0000
TZOFFSETTO:+0000
END:STANDARD
END:VTIMEZONE
BEGIN:VEVENT
UID:69ecc64750e15
DTSTAMP:20260425T134855Z
SUMMARY:L'Orfeo
DTSTART:20260503T160000Z
DTEND:20260503T160000Z
END:VEVENT
END:VCALENDAR