BEGIN:VCALENDAR
VERSION:2.0
PRODID:spatie/icalendar-generator
BEGIN:VTIMEZONE
TZID:UTC
BEGIN:STANDARD
DTSTART:20250729T134744
TZOFFSETFROM:+0000
TZOFFSETTO:+0000
END:STANDARD
END:VTIMEZONE
BEGIN:VEVENT
UID:69ecc60048232
DTSTAMP:20260425T134744Z
SUMMARY:Nabucco
DTSTART:20260514T160000Z
DTEND:20260514T160000Z
END:VEVENT
END:VCALENDAR