BEGIN:VCALENDAR
VERSION:2.0
PRODID:spatie/icalendar-generator
BEGIN:VTIMEZONE
TZID:UTC
BEGIN:STANDARD
DTSTART:20250729T134743
TZOFFSETFROM:+0000
TZOFFSETTO:+0000
END:STANDARD
END:VTIMEZONE
BEGIN:VEVENT
UID:69ecc5ffc36af
DTSTAMP:20260425T134743Z
SUMMARY:Kammerakademie
DTSTART:20260725T170000Z
DTEND:20260725T170000Z
END:VEVENT
END:VCALENDAR