BEGIN:VCALENDAR
VERSION:2.0
PRODID:spatie/icalendar-generator
BEGIN:VTIMEZONE
TZID:UTC
BEGIN:STANDARD
DTSTART:20250729T152348
TZOFFSETFROM:+0000
TZOFFSETTO:+0000
END:STANDARD
END:VTIMEZONE
BEGIN:VEVENT
UID:69ecdc844f17f
DTSTAMP:20260425T152348Z
SUMMARY:Così fan tutte
DTSTART:20260719T130000Z
DTEND:20260719T130000Z
END:VEVENT
END:VCALENDAR