BEGIN:VCALENDAR
VERSION:2.0
PRODID:spatie/icalendar-generator
BEGIN:VTIMEZONE
TZID:UTC
BEGIN:STANDARD
DTSTART:20250729T152311
TZOFFSETFROM:+0000
TZOFFSETTO:+0000
END:STANDARD
END:VTIMEZONE
BEGIN:VEVENT
UID:69ecdc5f588fa
DTSTAMP:20260425T152311Z
SUMMARY:Così fan tutte
DTSTART:20260715T170000Z
DTEND:20260715T170000Z
END:VEVENT
END:VCALENDAR