BEGIN:VCALENDAR
VERSION:2.0
PRODID:spatie/icalendar-generator
BEGIN:VTIMEZONE
TZID:UTC
BEGIN:STANDARD
DTSTART:20250726T235121
TZOFFSETFROM:+0000
TZOFFSETTO:+0000
END:STANDARD
END:VTIMEZONE
BEGIN:VEVENT
UID:69e95ef98570c
DTSTAMP:20260422T235121Z
SUMMARY:Così fan tutte
DTSTART:20260709T170000Z
DTEND:20260709T170000Z
END:VEVENT
END:VCALENDAR