BEGIN:VCALENDAR
VERSION:2.0
PRODID:spatie/icalendar-generator
BEGIN:VTIMEZONE
TZID:UTC
BEGIN:STANDARD
DTSTART:20250728T002831
TZOFFSETFROM:+0000
TZOFFSETTO:+0000
END:STANDARD
END:VTIMEZONE
BEGIN:VEVENT
UID:69eab92fc7a22
DTSTAMP:20260424T002831Z
SUMMARY:Faszinierendes Barockschloss: Zeitreise durch die Jahrhunderte
DTSTART:20260719T123000Z
DTEND:20260719T123000Z
END:VEVENT
END:VCALENDAR