BEGIN:VCALENDAR
VERSION:2.0
PRODID:spatie/icalendar-generator
BEGIN:VTIMEZONE
TZID:UTC
BEGIN:STANDARD
DTSTART:20250727T010726
TZOFFSETFROM:+0000
TZOFFSETTO:+0000
END:STANDARD
END:VTIMEZONE
BEGIN:VEVENT
UID:69e970cebb7b3
DTSTAMP:20260423T010726Z
SUMMARY:Luigi Toscano – Kanakenkinder
DTSTART:20260614T090000Z
DTEND:20260614T090000Z
END:VEVENT
END:VCALENDAR