BEGIN:VCALENDAR
VERSION:2.0
PRODID:spatie/icalendar-generator
BEGIN:VTIMEZONE
TZID:UTC
BEGIN:STANDARD
DTSTART:20250726T220931
TZOFFSETFROM:+0000
TZOFFSETTO:+0000
END:STANDARD
END:VTIMEZONE
BEGIN:VEVENT
UID:69e9471b21916
DTSTAMP:20260422T220931Z
SUMMARY:Luigi Toscano – Kanakenkinder
DTSTART:20260612T090000Z
DTEND:20260612T090000Z
END:VEVENT
END:VCALENDAR