BEGIN:VCALENDAR
VERSION:2.0
PRODID:spatie/icalendar-generator
BEGIN:VTIMEZONE
TZID:UTC
BEGIN:STANDARD
DTSTART:20250726T220846
TZOFFSETFROM:+0000
TZOFFSETTO:+0000
END:STANDARD
END:VTIMEZONE
BEGIN:VEVENT
UID:69e946ee692a7
DTSTAMP:20260422T220846Z
SUMMARY:Luigi Toscano – Kanakenkinder
DTSTART:20260611T090000Z
DTEND:20260611T090000Z
END:VEVENT
END:VCALENDAR