BEGIN:VCALENDAR
VERSION:2.0
PRODID:spatie/icalendar-generator
BEGIN:VTIMEZONE
TZID:UTC
BEGIN:STANDARD
DTSTART:20250726T171501
TZOFFSETFROM:+0000
TZOFFSETTO:+0000
END:STANDARD
END:VTIMEZONE
BEGIN:VEVENT
UID:69e90215ed300
DTSTAMP:20260422T171501Z
SUMMARY:Luigi Toscano – Kanakenkinder
DTSTART:20260607T090000Z
DTEND:20260607T090000Z
END:VEVENT
END:VCALENDAR