BEGIN:VCALENDAR
VERSION:2.0
PRODID:spatie/icalendar-generator
BEGIN:VTIMEZONE
TZID:UTC
BEGIN:STANDARD
DTSTART:20250726T091852
TZOFFSETFROM:+0000
TZOFFSETTO:+0000
END:STANDARD
END:VTIMEZONE
BEGIN:VEVENT
UID:69e8927c5a1c4
DTSTAMP:20260422T091852Z
SUMMARY:Luigi Toscano – Kanakenkinder
DTSTART:20260529T090000Z
DTEND:20260529T090000Z
END:VEVENT
END:VCALENDAR