BEGIN:VCALENDAR
VERSION:2.0
PRODID:spatie/icalendar-generator
BEGIN:VTIMEZONE
TZID:UTC
BEGIN:STANDARD
DTSTART:20250726T132118
TZOFFSETFROM:+0000
TZOFFSETTO:+0000
END:STANDARD
END:VTIMEZONE
BEGIN:VEVENT
UID:69e8cb4ec34ef
DTSTAMP:20260422T132118Z
SUMMARY:Luigi Toscano – Kanakenkinder
DTSTART:20260523T090000Z
DTEND:20260523T090000Z
END:VEVENT
END:VCALENDAR