BEGIN:VCALENDAR
VERSION:2.0
PRODID:spatie/icalendar-generator
BEGIN:VTIMEZONE
TZID:UTC
BEGIN:STANDARD
DTSTART:20250726T010543
TZOFFSETFROM:+0000
TZOFFSETTO:+0000
END:STANDARD
END:VTIMEZONE
BEGIN:VEVENT
UID:69e81ee79b26b
DTSTAMP:20260422T010543Z
SUMMARY:Luigi Toscano – Kanakenkinder
DTSTART:20260522T090000Z
DTEND:20260522T090000Z
END:VEVENT
END:VCALENDAR