BEGIN:VCALENDAR
VERSION:2.0
PRODID:spatie/icalendar-generator
BEGIN:VTIMEZONE
TZID:UTC
BEGIN:STANDARD
DTSTART:20250725T212443
TZOFFSETFROM:+0000
TZOFFSETTO:+0000
END:STANDARD
END:VTIMEZONE
BEGIN:VEVENT
UID:69e7eb1b23d30
DTSTAMP:20260421T212443Z
SUMMARY:Luigi Toscano – Kanakenkinder
DTSTART:20260520T090000Z
DTEND:20260520T090000Z
END:VEVENT
END:VCALENDAR